BEGIN:VCALENDAR
VERSION:2.0
PRODID:-//eventon.com NONSGML v1.0//EN
CALSCALE:GREGORIAN
METHOD:PUBLISH
BEGIN:VEVENT
UID:69e64f1b3a697
DTSTAMP:20260420T160651Z
DTSTART:20240401
DTEND:20240402
LOCATION:
SUMMARY:Manegenshow
DESCRIPTION:Manegenshow\nhttps://clown-fidelidad.de/events/manegenshow-4/
URL:https://clown-fidelidad.de/events/manegenshow-4/
END:VEVENT
END:VCALENDAR