BEGIN:VCALENDAR
VERSION:2.0
PRODID:-//eventon.com NONSGML v1.0//EN
CALSCALE:GREGORIAN
METHOD:PUBLISH
BEGIN:VEVENT
UID:69e650a0c36e6
DTSTAMP:20260420T161320Z
DTSTART:20231213T163000Z
DTEND:20231213T225000Z
LOCATION:
SUMMARY:FILM-Premiere
DESCRIPTION:40 Jahre Clown fidelidad … ein Dokumentarfilm Über 6 Jahre h
 at Raoul Morales-Márquez Clown fidelidad als Licht- und Tontechniker und H
 elfer bei vielen Auftritten begleitet. In diesen Jahren entstand bei Raoul 
 Morales-Márquez\,  Absolvent der Filmklasse an der Kunstakademie Münster\
 ,  die Idee\,  einen Dokumentarfilm über das Leben und künstlerische Scha
 ffen von[..]\nhttps://clown-fidelidad.de/events/filmpremiere/
URL:https://clown-fidelidad.de/events/filmpremiere/
END:VEVENT
END:VCALENDAR