BEGIN:VCALENDAR
VERSION:2.0
PRODID:-//eventon.com NONSGML v1.0//EN
CALSCALE:GREGORIAN
METHOD:PUBLISH
BEGIN:VEVENT
UID:69e6509d717b3
DTSTAMP:20260420T161317Z
DTSTART:20231130
DTEND:20231201
LOCATION:
SUMMARY:Einsatz der Clinic-Clowns
DESCRIPTION:Clown fidelidad und Flora als Clown-Duo\nhttps://clown-fidelida
 d.de/events/einsatz-der-clinic-clowns-7/
URL:https://clown-fidelidad.de/events/einsatz-der-clinic-clowns-7/
END:VEVENT
END:VCALENDAR