BEGIN:VCALENDAR
VERSION:2.0
PRODID:-//eventon.com NONSGML v1.0//EN
CALSCALE:GREGORIAN
METHOD:PUBLISH
BEGIN:VEVENT
UID:69e64fa16a3d7
DTSTAMP:20260420T160905Z
DTSTART:20230902
DTEND:20230903
LOCATION:
SUMMARY:Die Clown fidelidad Solo Show!
DESCRIPTION:zum Theaterfest in Marl\nhttps://clown-fidelidad.de/events/die-
 clown-fidelidad-solo-show-11/
URL:https://clown-fidelidad.de/events/die-clown-fidelidad-solo-show-11/
END:VEVENT
END:VCALENDAR