BEGIN:VCALENDAR
VERSION:2.0
PRODID:-//eventon.com NONSGML v1.0//EN
CALSCALE:GREGORIAN
METHOD:PUBLISH
BEGIN:VEVENT
UID:69e68a1262071
DTSTAMP:20260420T201826Z
DTSTART:20230409
DTEND:20230410
LOCATION:
SUMMARY:Ostereiersuche mit Clown fidelidad!
DESCRIPTION:mit Radio Antenne Münster und RadioRSTe\nhttps://clown-fidelid
 ad.de/events/ostereiersuche-mit-clown-fidelidad-2/
URL:https://clown-fidelidad.de/events/ostereiersuche-mit-clown-fidelidad-2/
END:VEVENT
END:VCALENDAR