BEGIN:VCALENDAR
VERSION:2.0
PRODID:-//eventon.com NONSGML v1.0//EN
CALSCALE:GREGORIAN
METHOD:PUBLISH
BEGIN:VEVENT
UID:69e64f4475584
DTSTAMP:20260420T160732Z
DTSTART:20230410
DTEND:20230411
LOCATION:
SUMMARY:Ostereiersuche mit Clown fidelidad!
DESCRIPTION:mit Radio Antenne Münster und RadioRSTe\nhttps://clown-fidelid
 ad.de/events/ostereiersuche-mit-clown-fidelidad/
URL:https://clown-fidelidad.de/events/ostereiersuche-mit-clown-fidelidad/
END:VEVENT
END:VCALENDAR