BEGIN:VCALENDAR
VERSION:2.0
PRODID:-//eventon.com NONSGML v1.0//EN
CALSCALE:GREGORIAN
METHOD:PUBLISH
BEGIN:VEVENT
UID:69e5b682a651e
DTSTAMP:20260420T051546Z
DTSTART:20221002
DTEND:20221003
LOCATION:
SUMMARY:Fahrradclown
DESCRIPTION:Zwei Auftritte im Parkgelände vom Brückenkopfpark in Jülich\
 nhttps://clown-fidelidad.de/events/fahrradclown/
URL:https://clown-fidelidad.de/events/fahrradclown/
END:VEVENT
END:VCALENDAR