BEGIN:VCALENDAR
VERSION:2.0
PRODID:-//eventon.com NONSGML v1.0//EN
CALSCALE:GREGORIAN
METHOD:PUBLISH
BEGIN:VEVENT
UID:69e5b682a68ee
DTSTAMP:20260420T051546Z
DTSTART:20230805
DTEND:20230806
LOCATION:
SUMMARY:Das Hammer-Straßenfest
DESCRIPTION:Das Hammer-Straßenfest\nhttps://clown-fidelidad.de/events/hamm
 er-strassenfest/
URL:https://clown-fidelidad.de/events/hammer-strassenfest/
END:VEVENT
END:VCALENDAR