BEGIN:VCALENDAR
VERSION:2.0
PRODID:-//eventon.com NONSGML v1.0//EN
CALSCALE:GREGORIAN
METHOD:PUBLISH
BEGIN:VEVENT
UID:69e5b5a9508bd
DTSTAMP:20260420T051209Z
DTSTART:20220715
DTEND:20220716
LOCATION:
SUMMARY:Geburtstags-Show
DESCRIPTION:privater Familien-Event\nhttps://clown-fidelidad.de/events/gebu
 rtstags-show/
URL:https://clown-fidelidad.de/events/geburtstags-show/
END:VEVENT
END:VCALENDAR